BEGIN:VCALENDAR
VERSION:2.0
PRODID:https://www.kufer.de/kuferweb / DE
METHOD:PUBLISH
CALSCALE:GREGORIAN
X-WR-TIMEZONE:Europe/Berlin
BEGIN:VTIMEZONE
TZID:Europe/Berlin
X-LIC-LOCATION:Europe/Berlin
BEGIN:DAYLIGHT
TZOFFSETFROM:+0100
TZOFFSETTO:+0200
TZNAME:CEST
DTSTART:19700329T020000
RRULE:FREQ=YEARLY;INTERVAL=1;BYDAY=-1SU;BYMONTH=3
END:DAYLIGHT
BEGIN:STANDARD
TZOFFSETFROM:+0200
TZOFFSETTO:+0100
TZNAME:CET
DTSTART:19701025T030000
RRULE:FREQ=YEARLY;INTERVAL=1;BYDAY=-1SU;BYMONTH=10
END:STANDARD
END:VTIMEZONE
BEGIN:VEVENT
DTSTAMP:20260419T141847
DTSTART;TZID=Europe/Berlin:20260504T111500
DTEND;TZID=Europe/Berlin:20260504T124500
UID:26F-3085-20260504T111500@HDFFLENSBURG
SUMMARY:Yoga 50plus (26F-3085) 
LOCATION:Haus der Familie, Mürwiker Straße 115, 24943 Flensburg
END:VEVENT
BEGIN:VEVENT
DTSTAMP:20260419T141847
DTSTART;TZID=Europe/Berlin:20260511T111500
DTEND;TZID=Europe/Berlin:20260511T124500
UID:26F-3085-20260511T111500@HDFFLENSBURG
SUMMARY:Yoga 50plus (26F-3085) 
LOCATION:Haus der Familie, Mürwiker Straße 115, 24943 Flensburg
END:VEVENT
BEGIN:VEVENT
DTSTAMP:20260419T141847
DTSTART;TZID=Europe/Berlin:20260518T111500
DTEND;TZID=Europe/Berlin:20260518T124500
UID:26F-3085-20260518T111500@HDFFLENSBURG
SUMMARY:Yoga 50plus (26F-3085) 
LOCATION:Haus der Familie, Mürwiker Straße 115, 24943 Flensburg
END:VEVENT
BEGIN:VEVENT
DTSTAMP:20260419T141847
DTSTART;TZID=Europe/Berlin:20260525T111500
DTEND;TZID=Europe/Berlin:20260525T124500
UID:26F-3085-20260525T111500@HDFFLENSBURG
SUMMARY:Yoga 50plus (26F-3085) 
LOCATION:Haus der Familie, Mürwiker Straße 115, 24943 Flensburg
END:VEVENT
BEGIN:VEVENT
DTSTAMP:20260419T141847
DTSTART;TZID=Europe/Berlin:20260601T111500
DTEND;TZID=Europe/Berlin:20260601T124500
UID:26F-3085-20260601T111500@HDFFLENSBURG
SUMMARY:Yoga 50plus (26F-3085) 
LOCATION:Haus der Familie, Mürwiker Straße 115, 24943 Flensburg
END:VEVENT
BEGIN:VEVENT
DTSTAMP:20260419T141847
DTSTART;TZID=Europe/Berlin:20260608T111500
DTEND;TZID=Europe/Berlin:20260608T124500
UID:26F-3085-20260608T111500@HDFFLENSBURG
SUMMARY:Yoga 50plus (26F-3085) 
LOCATION:Haus der Familie, Mürwiker Straße 115, 24943 Flensburg
END:VEVENT
BEGIN:VEVENT
DTSTAMP:20260419T141847
DTSTART;TZID=Europe/Berlin:20260615T111500
DTEND;TZID=Europe/Berlin:20260615T124500
UID:26F-3085-20260615T111500@HDFFLENSBURG
SUMMARY:Yoga 50plus (26F-3085) 
LOCATION:Haus der Familie, Mürwiker Straße 115, 24943 Flensburg
END:VEVENT
BEGIN:VEVENT
DTSTAMP:20260419T141847
DTSTART;TZID=Europe/Berlin:20260622T111500
DTEND;TZID=Europe/Berlin:20260622T124500
UID:26F-3085-20260622T111500@HDFFLENSBURG
SUMMARY:Yoga 50plus (26F-3085) 
LOCATION:Haus der Familie, Mürwiker Straße 115, 24943 Flensburg
END:VEVENT
BEGIN:VEVENT
DTSTAMP:20260419T141847
DTSTART;TZID=Europe/Berlin:20260629T111500
DTEND;TZID=Europe/Berlin:20260629T124500
UID:26F-3085-20260629T111500@HDFFLENSBURG
SUMMARY:Yoga 50plus (26F-3085) 
LOCATION:Haus der Familie, Mürwiker Straße 115, 24943 Flensburg
END:VEVENT
END:VCALENDAR