BEGIN:VCALENDAR
VERSION:2.0
PRODID:https://www.kufer.de/kuferweb / DE
METHOD:PUBLISH
CALSCALE:GREGORIAN
X-WR-TIMEZONE:Europe/Berlin
BEGIN:VTIMEZONE
TZID:Europe/Berlin
X-LIC-LOCATION:Europe/Berlin
BEGIN:DAYLIGHT
TZOFFSETFROM:+0100
TZOFFSETTO:+0200
TZNAME:CEST
DTSTART:19700329T020000
RRULE:FREQ=YEARLY;INTERVAL=1;BYDAY=-1SU;BYMONTH=3
END:DAYLIGHT
BEGIN:STANDARD
TZOFFSETFROM:+0200
TZOFFSETTO:+0100
TZNAME:CET
DTSTART:19701025T030000
RRULE:FREQ=YEARLY;INTERVAL=1;BYDAY=-1SU;BYMONTH=10
END:STANDARD
END:VTIMEZONE
BEGIN:VEVENT
DTSTAMP:20260424T055310
DTSTART;TZID=Europe/Berlin:20260306T111500
DTEND;TZID=Europe/Berlin:20260306T124500
UID:26F-3078-20260306T111500@HDFFLENSBURG
SUMMARY:Yoga 50plus (26F-3078) 
LOCATION:Haus der Familie, Mürwiker Straße 115, 24943 Flensburg
END:VEVENT
BEGIN:VEVENT
DTSTAMP:20260424T055310
DTSTART;TZID=Europe/Berlin:20260313T111500
DTEND;TZID=Europe/Berlin:20260313T124500
UID:26F-3078-20260313T111500@HDFFLENSBURG
SUMMARY:Yoga 50plus (26F-3078) 
LOCATION:Haus der Familie, Mürwiker Straße 115, 24943 Flensburg
END:VEVENT
BEGIN:VEVENT
DTSTAMP:20260424T055310
DTSTART;TZID=Europe/Berlin:20260320T111500
DTEND;TZID=Europe/Berlin:20260320T124500
UID:26F-3078-20260320T111500@HDFFLENSBURG
SUMMARY:Yoga 50plus (26F-3078) 
LOCATION:Haus der Familie, Mürwiker Straße 115, 24943 Flensburg
END:VEVENT
BEGIN:VEVENT
DTSTAMP:20260424T055310
DTSTART;TZID=Europe/Berlin:20260327T111500
DTEND;TZID=Europe/Berlin:20260327T124500
UID:26F-3078-20260327T111500@HDFFLENSBURG
SUMMARY:Yoga 50plus (26F-3078) 
LOCATION:Haus der Familie, Mürwiker Straße 115, 24943 Flensburg
END:VEVENT
BEGIN:VEVENT
DTSTAMP:20260424T055310
DTSTART;TZID=Europe/Berlin:20260403T111500
DTEND;TZID=Europe/Berlin:20260403T124500
UID:26F-3078-20260403T111500@HDFFLENSBURG
SUMMARY:Yoga 50plus (26F-3078) 
LOCATION:Haus der Familie, Mürwiker Straße 115, 24943 Flensburg
END:VEVENT
BEGIN:VEVENT
DTSTAMP:20260424T055310
DTSTART;TZID=Europe/Berlin:20260410T111500
DTEND;TZID=Europe/Berlin:20260410T124500
UID:26F-3078-20260410T111500@HDFFLENSBURG
SUMMARY:Yoga 50plus (26F-3078) 
LOCATION:Haus der Familie, Mürwiker Straße 115, 24943 Flensburg
END:VEVENT
BEGIN:VEVENT
DTSTAMP:20260424T055310
DTSTART;TZID=Europe/Berlin:20260417T111500
DTEND;TZID=Europe/Berlin:20260417T124500
UID:26F-3078-20260417T111500@HDFFLENSBURG
SUMMARY:Yoga 50plus (26F-3078) 
LOCATION:Haus der Familie, Mürwiker Straße 115, 24943 Flensburg
END:VEVENT
BEGIN:VEVENT
DTSTAMP:20260424T055310
DTSTART;TZID=Europe/Berlin:20260424T111500
DTEND;TZID=Europe/Berlin:20260424T124500
UID:26F-3078-20260424T111500@HDFFLENSBURG
SUMMARY:Yoga 50plus (26F-3078) 
LOCATION:Haus der Familie, Mürwiker Straße 115, 24943 Flensburg
END:VEVENT
BEGIN:VEVENT
DTSTAMP:20260424T055310
DTSTART;TZID=Europe/Berlin:20260501T111500
DTEND;TZID=Europe/Berlin:20260501T124500
UID:26F-3078-20260501T111500@HDFFLENSBURG
SUMMARY:Yoga 50plus (26F-3078) 
LOCATION:Haus der Familie, Mürwiker Straße 115, 24943 Flensburg
END:VEVENT
END:VCALENDAR