BEGIN:VCALENDAR
VERSION:2.0
PRODID:https://www.kufer.de/kuferweb / DE
METHOD:PUBLISH
CALSCALE:GREGORIAN
X-WR-TIMEZONE:Europe/Berlin
BEGIN:VTIMEZONE
TZID:Europe/Berlin
X-LIC-LOCATION:Europe/Berlin
BEGIN:DAYLIGHT
TZOFFSETFROM:+0100
TZOFFSETTO:+0200
TZNAME:CEST
DTSTART:19700329T020000
RRULE:FREQ=YEARLY;INTERVAL=1;BYDAY=-1SU;BYMONTH=3
END:DAYLIGHT
BEGIN:STANDARD
TZOFFSETFROM:+0200
TZOFFSETTO:+0100
TZNAME:CET
DTSTART:19701025T030000
RRULE:FREQ=YEARLY;INTERVAL=1;BYDAY=-1SU;BYMONTH=10
END:STANDARD
END:VTIMEZONE
BEGIN:VEVENT
DTSTAMP:20260419T144506
DTSTART;TZID=Europe/Berlin:20260305T110000
DTEND;TZID=Europe/Berlin:20260305T123000
UID:26F-3077-20260305T110000@HDFFLENSBURG
SUMMARY:Yoga 50plus (26F-3077) 
LOCATION:Haus der Familie, Mürwiker Straße 115, 24943 Flensburg
END:VEVENT
BEGIN:VEVENT
DTSTAMP:20260419T144506
DTSTART;TZID=Europe/Berlin:20260312T110000
DTEND;TZID=Europe/Berlin:20260312T123000
UID:26F-3077-20260312T110000@HDFFLENSBURG
SUMMARY:Yoga 50plus (26F-3077) 
LOCATION:Haus der Familie, Mürwiker Straße 115, 24943 Flensburg
END:VEVENT
BEGIN:VEVENT
DTSTAMP:20260419T144506
DTSTART;TZID=Europe/Berlin:20260319T110000
DTEND;TZID=Europe/Berlin:20260319T123000
UID:26F-3077-20260319T110000@HDFFLENSBURG
SUMMARY:Yoga 50plus (26F-3077) 
LOCATION:Haus der Familie, Mürwiker Straße 115, 24943 Flensburg
END:VEVENT
BEGIN:VEVENT
DTSTAMP:20260419T144506
DTSTART;TZID=Europe/Berlin:20260326T110000
DTEND;TZID=Europe/Berlin:20260326T123000
UID:26F-3077-20260326T110000@HDFFLENSBURG
SUMMARY:Yoga 50plus (26F-3077) 
LOCATION:Haus der Familie, Mürwiker Straße 115, 24943 Flensburg
END:VEVENT
BEGIN:VEVENT
DTSTAMP:20260419T144506
DTSTART;TZID=Europe/Berlin:20260402T110000
DTEND;TZID=Europe/Berlin:20260402T123000
UID:26F-3077-20260402T110000@HDFFLENSBURG
SUMMARY:Yoga 50plus (26F-3077) 
LOCATION:Haus der Familie, Mürwiker Straße 115, 24943 Flensburg
END:VEVENT
BEGIN:VEVENT
DTSTAMP:20260419T144506
DTSTART;TZID=Europe/Berlin:20260409T110000
DTEND;TZID=Europe/Berlin:20260409T123000
UID:26F-3077-20260409T110000@HDFFLENSBURG
SUMMARY:Yoga 50plus (26F-3077) 
LOCATION:Haus der Familie, Mürwiker Straße 115, 24943 Flensburg
END:VEVENT
BEGIN:VEVENT
DTSTAMP:20260419T144506
DTSTART;TZID=Europe/Berlin:20260416T110000
DTEND;TZID=Europe/Berlin:20260416T123000
UID:26F-3077-20260416T110000@HDFFLENSBURG
SUMMARY:Yoga 50plus (26F-3077) 
LOCATION:Haus der Familie, Mürwiker Straße 115, 24943 Flensburg
END:VEVENT
BEGIN:VEVENT
DTSTAMP:20260419T144506
DTSTART;TZID=Europe/Berlin:20260423T110000
DTEND;TZID=Europe/Berlin:20260423T123000
UID:26F-3077-20260423T110000@HDFFLENSBURG
SUMMARY:Yoga 50plus (26F-3077) 
LOCATION:Haus der Familie, Mürwiker Straße 115, 24943 Flensburg
END:VEVENT
BEGIN:VEVENT
DTSTAMP:20260419T144506
DTSTART;TZID=Europe/Berlin:20260430T110000
DTEND;TZID=Europe/Berlin:20260430T123000
UID:26F-3077-20260430T110000@HDFFLENSBURG
SUMMARY:Yoga 50plus (26F-3077) 
LOCATION:Haus der Familie, Mürwiker Straße 115, 24943 Flensburg
END:VEVENT
BEGIN:VEVENT
DTSTAMP:20260419T144506
DTSTART;TZID=Europe/Berlin:20260507T110000
DTEND;TZID=Europe/Berlin:20260507T123000
UID:26F-3077-20260507T110000@HDFFLENSBURG
SUMMARY:Yoga 50plus (26F-3077) 
LOCATION:Haus der Familie, Mürwiker Straße 115, 24943 Flensburg
END:VEVENT
END:VCALENDAR